BEGIN:VCALENDAR
VERSION:2.0
PRODID:-//wp-events-plugin.com//7.2.3.1//EN
TZID:America/Los_Angeles
X-WR-TIMEZONE:America/Los_Angeles
BEGIN:VEVENT
UID:5635@tualatinvfwaux.org
DTSTART;TZID=America/Los_Angeles;VALUE=DATE:20260508
DTEND;TZID=America/Los_Angeles;VALUE=DATE:20260509
DTSTAMP:20250509T014857Z
URL:https://tualatinvfwaux.org/events/v-e-day-2026-05-08/
SUMMARY:V-E Day -  - 8 May 26 00:00
DESCRIPTION:On May 8\, 1945\, that Germany and Hitler's Nazi army surrender
 ed unconditionally to the Allied Forces\, led by the United States and Gre
 at Britain.\n\nMore than 75 million lives were lost during World War II\, 
 including those of more than 11 million in concentration camps\, 6 million
  of whom were Jewish\, and nearly 300\,000 United States soldiers. When vi
 ctory was declared across Europe and the United States\, celebration broke
  out everywhere as signs of jubilation spilled into the streets.\n\nFor ei
 ght straight decades\, VFW Auxiliary members have been celebrating V-E Day
  not only with fanfare\, but by helping those in the United States and bey
 ond who were most affected by the war. The National World War II Museum es
 timates that there were around 66\,000 World War II veterans still living 
 in the United States as of 2024\, which is less than 1% of the number of A
 mericans who served. Do you know a World War II veteran? Reach out to him 
 or her to say "thank you" today!
ATTACH;FMTTYPE=image/jpeg:https://i0.wp.com/tualatinvfwaux.org/wp-content/
 uploads/V-E-Day.png?fit=1200%2C872&ssl=1
END:VEVENT
BEGIN:VTIMEZONE
TZID:America/Los_Angeles
X-LIC-LOCATION:America/Los_Angeles
BEGIN:DAYLIGHT
DTSTART:20260308T030000
TZOFFSETFROM:-0800
TZOFFSETTO:-0700
TZNAME:PDT
END:DAYLIGHT
END:VTIMEZONE
END:VCALENDAR