BEGIN:VCALENDAR
VERSION:2.0
PRODID:-//wp-events-plugin.com//7.2.3.1//EN
TZID:America/Los_Angeles
X-WR-TIMEZONE:America/Los_Angeles
BEGIN:VEVENT
UID:3327@tualatinvfwaux.org
DTSTART;TZID=America/Los_Angeles:20140908T190000
DTEND;TZID=America/Los_Angeles:20140908T203000
DTSTAMP:20140810T000551Z
URL:https://tualatinvfwaux.org/events/september-post-meeting/
SUMMARY:September POST MEETING -  - 8 Sep 14 19:00
DESCRIPTION:
END:VEVENT
BEGIN:VTIMEZONE
TZID:America/Los_Angeles
X-LIC-LOCATION:America/Los_Angeles
BEGIN:DAYLIGHT
DTSTART:20140309T030000
TZOFFSETFROM:-0800
TZOFFSETTO:-0700
TZNAME:PDT
END:DAYLIGHT
END:VTIMEZONE
END:VCALENDAR