BEGIN:VCALENDAR
VERSION:2.0
PRODID:-//wp-events-plugin.com//7.2.3.1//EN
TZID:America/Los_Angeles
X-WR-TIMEZONE:America/Los_Angeles
BEGIN:VEVENT
UID:442@tualatinvfwaux.org
DTSTART;TZID=America/Los_Angeles:20130603T190000
DTEND;TZID=America/Los_Angeles:20130603T203000
DTSTAMP:20130518T214323Z
URL:https://tualatinvfwaux.org/events/post-meeting-june-3-2013/
SUMMARY:POST MEETING - JUNE 3\, 2013 - VFW Post 3452 - 3 Jun 13 19:00
DESCRIPTION:
LOCATION:VFW Post 3452\, 18820 Southwest Boones Ferry Road\, Tualatin\, OR\
 , 97062\, United States
GEO:45.3835872;-122.76359509999997
X-APPLE-STRUCTURED-LOCATION;VALUE=URI;X-ADDRESS=18820 Southwest Boones Ferr
 y Road\, Tualatin\, OR\, 97062\, United States;X-APPLE-RADIUS=100;X-TITLE=
 VFW Post 3452:geo:45.3835872,-122.76359509999997
END:VEVENT
BEGIN:VTIMEZONE
TZID:America/Los_Angeles
X-LIC-LOCATION:America/Los_Angeles
BEGIN:DAYLIGHT
DTSTART:20130310T030000
TZOFFSETFROM:-0800
TZOFFSETTO:-0700
TZNAME:PDT
END:DAYLIGHT
END:VTIMEZONE
END:VCALENDAR