BEGIN:VCALENDAR
VERSION:2.0
PRODID:-//wp-events-plugin.com//7.2.3.1//EN
TZID:America/Los_Angeles
X-WR-TIMEZONE:America/Los_Angeles
BEGIN:VEVENT
UID:3144@tualatinvfwaux.org
DTSTART;TZID=America/Los_Angeles:20140203T190000
DTEND;TZID=America/Los_Angeles:20140203T203000
DTSTAMP:20140108T174048Z
URL:https://tualatinvfwaux.org/events/post-meeting-february-3/
SUMMARY:POST MEETING - FEBRUARY 3 - Tualatin VFW Post 3452 - 3 Feb 14 19:00
DESCRIPTION:
LOCATION:Tualatin VFW Post 3452\, 18820 SW Boones Ferry Rf\, Tualatin \, OR
  \, 97062\, United States
GEO:45.3841393;-122.76389219999998
X-APPLE-STRUCTURED-LOCATION;VALUE=URI;X-ADDRESS=18820 SW Boones Ferry Rf\, 
 Tualatin \, OR \, 97062\, United States;X-APPLE-RADIUS=100;X-TITLE=Tualati
 n VFW Post 3452:geo:45.3841393,-122.76389219999998
END:VEVENT
BEGIN:VTIMEZONE
TZID:America/Los_Angeles
X-LIC-LOCATION:America/Los_Angeles
BEGIN:STANDARD
DTSTART:20131103T010000
TZOFFSETFROM:-0700
TZOFFSETTO:-0800
TZNAME:PST
END:STANDARD
END:VTIMEZONE
END:VCALENDAR